BEGIN:VCALENDAR
VERSION:2.0
PRODID:-//Woodlands Conservancy - ECPv6.0.6.1//NONSGML v1.0//EN
CALSCALE:GREGORIAN
METHOD:PUBLISH
X-WR-CALNAME:Woodlands Conservancy
X-ORIGINAL-URL:https://www.woodlandsconservancy.org
X-WR-CALDESC:Events for Woodlands Conservancy
REFRESH-INTERVAL;VALUE=DURATION:PT1H
X-Robots-Tag:noindex
X-PUBLISHED-TTL:PT1H
BEGIN:VTIMEZONE
TZID:America/Chicago
BEGIN:DAYLIGHT
TZOFFSETFROM:-0600
TZOFFSETTO:-0500
TZNAME:CDT
DTSTART:20240310T080000
END:DAYLIGHT
BEGIN:STANDARD
TZOFFSETFROM:-0500
TZOFFSETTO:-0600
TZNAME:CST
DTSTART:20241103T070000
END:STANDARD
END:VTIMEZONE
BEGIN:VEVENT
DTSTART;TZID=America/Chicago:20240406T090000
DTEND;TZID=America/Chicago:20240406T120000
DTSTAMP:20260421T045303
CREATED:20240330T192053Z
LAST-MODIFIED:20240330T192054Z
UID:6625-1712394000-1712404800@www.woodlandsconservancy.org
SUMMARY:Volunteer Tree Planting @ Woodlands Preserve
DESCRIPTION:At this volunteer event\, we’ll be planting seedling trees in one of our restoration areas!We will meet at 449 F. Edward Herbert Blvd. Belle Chasse\, LA. \n\n\n\nPlease email volunteer@woodlandsconservancy.org to RSVP.
URL:https://www.woodlandsconservancy.org/event/volunteer-tree-planting-woodlands-preserve-11/
END:VEVENT
BEGIN:VEVENT
DTSTART;TZID=America/Chicago:20240407T062000
DTEND;TZID=America/Chicago:20240407T123000
DTSTAMP:20260421T045303
CREATED:20240402T172313Z
LAST-MODIFIED:20240402T172315Z
UID:6634-1712470800-1712493000@www.woodlandsconservancy.org
SUMMARY:Bird Banding @ Woodlands Preserve
DESCRIPTION:Sunday\, April 7thWoodlands Preserve6:20 AM – 12:30 PMPlease email < feralbiologist @ gmail dot com > to RSVP.
URL:https://www.woodlandsconservancy.org/event/bird-banding-woodlands-preserve-16/
END:VEVENT
BEGIN:VEVENT
DTSTART;TZID=America/Chicago:20240411T180000
DTEND;TZID=America/Chicago:20240411T200000
DTSTAMP:20260421T045303
CREATED:20240330T192427Z
LAST-MODIFIED:20240330T192428Z
UID:6631-1712858400-1712865600@www.woodlandsconservancy.org
SUMMARY:Reptile & Amphibian Hike
DESCRIPTION:Ready for reptiles? How about amphibians? \n\n\n\nJoin us on Thursday\, April 11th from 6pm-8pm for a reptile & amphibian hike at Woodlands Preserve with Dr. Timothy Clay! Dr. Clay is an Assistant Professor of Biology & runs the Nicholls Herpetology Lab at Nicholls State University. \n\n\n\nAt this event\, visitors will learn about the reptile & amphibian communities that call Woodlands Preserve– and Louisiana\, home. Bringing your own headlamp/flashlight is highly encouraged! \n\n\n\n449 F. Edward Herbert Blvd. \n\n\n\nThis event is free & open to the public.
URL:https://www.woodlandsconservancy.org/event/reptile-amphibian-hike/
END:VEVENT
BEGIN:VEVENT
DTSTART;TZID=America/Chicago:20240413T090000
DTEND;TZID=America/Chicago:20240413T120000
DTSTAMP:20260421T045303
CREATED:20240330T192138Z
LAST-MODIFIED:20240330T192140Z
UID:6627-1712998800-1713009600@www.woodlandsconservancy.org
SUMMARY:Volunteer Tree Planting @ Woodlands Preserve
DESCRIPTION:At this volunteer event\, we’ll be planting seedling and sapling trees in one of our restoration areas!We will meet at 449 F. Edward Herbert Blvd. Belle Chasse\, LA. \n\n\n\nPlease email volunteer@woodlandsconservancy.org to RSVP.
URL:https://www.woodlandsconservancy.org/event/volunteer-tree-planting-woodlands-preserve-12/
END:VEVENT
BEGIN:VEVENT
DTSTART;TZID=America/Chicago:20240416T061500
DTEND;TZID=America/Chicago:20240416T120000
DTSTAMP:20260421T045303
CREATED:20240416T111536Z
LAST-MODIFIED:20240411T221608Z
UID:6636-1713248100-1713268800@www.woodlandsconservancy.org
SUMMARY:Bird Banding @ Delacroix Preserve
DESCRIPTION:Tuesday\, April 16thDelacroix Preserve6:15 AM – 12:00 PM \n\n\n\nPlease email < feralbiologist @ gmail dot com > to RSVP.
URL:https://www.woodlandsconservancy.org/event/bird-banding-delacroix-preserve-15/
END:VEVENT
BEGIN:VEVENT
DTSTART;TZID=America/Chicago:20240420T090000
DTEND;TZID=America/Chicago:20240420T120000
DTSTAMP:20260421T045303
CREATED:20240330T192227Z
LAST-MODIFIED:20240330T192229Z
UID:6629-1713603600-1713614400@www.woodlandsconservancy.org
SUMMARY:Volunteer Tree Planting @ Woodlands Preserve
DESCRIPTION:At this volunteer event\, we’ll be planting seedling and sapling trees in one of our restoration areas!We will meet at 449 F. Edward Herbert Blvd. Belle Chasse\, LA. \n\n\n\nPlease email volunteer@woodlandsconservancy.org to RSVP.
URL:https://www.woodlandsconservancy.org/event/volunteer-tree-planting-woodlands-preserve-13/
END:VEVENT
END:VCALENDAR