BEGIN:VCALENDAR
VERSION:2.0
PRODID:-//Woodlands Conservancy - ECPv6.0.6.1//NONSGML v1.0//EN
CALSCALE:GREGORIAN
METHOD:PUBLISH
X-ORIGINAL-URL:https://www.woodlandsconservancy.org
X-WR-CALDESC:Events for Woodlands Conservancy
REFRESH-INTERVAL;VALUE=DURATION:PT1H
X-Robots-Tag:noindex
X-PUBLISHED-TTL:PT1H
BEGIN:VTIMEZONE
TZID:America/Chicago
BEGIN:DAYLIGHT
TZOFFSETFROM:-0600
TZOFFSETTO:-0500
TZNAME:CDT
DTSTART:20240310T080000
END:DAYLIGHT
BEGIN:STANDARD
TZOFFSETFROM:-0500
TZOFFSETTO:-0600
TZNAME:CST
DTSTART:20241103T070000
END:STANDARD
END:VTIMEZONE
BEGIN:VEVENT
DTSTART;TZID=America/Chicago:20240302T090000
DTEND;TZID=America/Chicago:20240302T120000
DTSTAMP:20260421T132743
CREATED:20240215T220754Z
LAST-MODIFIED:20240215T220755Z
UID:6598-1709370000-1709380800@www.woodlandsconservancy.org
SUMMARY:Volunteer Tree-Planting @ Woodlands Preserve
DESCRIPTION:At this volunteer event\, we’ll be planting seedling and sapling trees in one of our restoration areas!We will meet at 449 F. Edward Herbert Blvd. Belle Chasse\, LA. \n\n\n\nPlease email volunteer@woodlandsconservancy.org to RSVP.
URL:https://www.woodlandsconservancy.org/event/volunteer-tree-planting-woodlands-preserve-9/
END:VEVENT
BEGIN:VEVENT
DTSTART;TZID=America/Chicago:20240309T090000
DTEND;TZID=America/Chicago:20240309T120000
DTSTAMP:20260421T132743
CREATED:20240215T220834Z
LAST-MODIFIED:20240215T220836Z
UID:6600-1709974800-1709985600@www.woodlandsconservancy.org
SUMMARY:Volunteer Tree-Planting @ Woodlands Preserve
DESCRIPTION:At this volunteer event\, we’ll be planting seedling and sapling trees in one of our restoration areas!We will meet at 449 F. Edward Herbert Blvd. Belle Chasse\, LA. \n\n\n\nPlease email volunteer@woodlandsconservancy.org to RSVP.
URL:https://www.woodlandsconservancy.org/event/volunteer-tree-planting-woodlands-preserve-10/
END:VEVENT
BEGIN:VEVENT
DTSTART;TZID=America/Chicago:20240310T065500
DTEND;TZID=America/Chicago:20240310T130000
DTSTAMP:20260421T132743
CREATED:20240304T192122Z
LAST-MODIFIED:20240304T192124Z
UID:6608-1710053700-1710075600@www.woodlandsconservancy.org
SUMMARY:Bird Banding @ Woodlands Preserve
DESCRIPTION:Please email <feralbiologist @ gmail dot com> to RSVP.
URL:https://www.woodlandsconservancy.org/event/bird-banding-woodlands-preserve-15/
END:VEVENT
BEGIN:VEVENT
DTSTART;TZID=America/Chicago:20240316T015000
DTEND;TZID=America/Chicago:20240316T130000
DTSTAMP:20260421T132743
CREATED:20240304T192203Z
LAST-MODIFIED:20240304T192205Z
UID:6610-1710553800-1710594000@www.woodlandsconservancy.org
SUMMARY:Bird Banding @ Delacroix Preserve
DESCRIPTION:Please email <feralbiologist @ gmail dot com> to RSVP.
URL:https://www.woodlandsconservancy.org/event/bird-banding-delacroix-preserve-14/
END:VEVENT
BEGIN:VEVENT
DTSTART;TZID=America/Chicago:20240330T100000
DTEND;TZID=America/Chicago:20240330T130000
DTSTAMP:20260421T132743
CREATED:20240307T213513Z
LAST-MODIFIED:20240319T202559Z
UID:6614-1711792800-1711803600@www.woodlandsconservancy.org
SUMMARY:Native Plant Giveaway @ Woodlands Preserve
DESCRIPTION:Looking for native plants? Look no further! In partnership with the Native Plant Initiative of Greater New Orleans\, we are hosting a native plant giveaway! 300 perennial native plants will be given away at no charge in an effort to increase native plant diversity. Thank you to the Native Plant Initiative of Greater New Orleans for providing the plants and letting us host this awesome event! And a special thank you to BTNEP for the funding that has allowed NPIGNO to put native plants into the hands of people in Greater New Orleans!449 F. Edward Herbert Blvd. Belle Chasse\, LA 70037
URL:https://www.woodlandsconservancy.org/event/native-plant-giveaway-woodlands-preserve/
END:VEVENT
END:VCALENDAR