BEGIN:VCALENDAR
VERSION:2.0
PRODID:-//Woodlands Conservancy - ECPv6.0.6.1//NONSGML v1.0//EN
CALSCALE:GREGORIAN
METHOD:PUBLISH
X-WR-CALNAME:Woodlands Conservancy
X-ORIGINAL-URL:https://www.woodlandsconservancy.org
X-WR-CALDESC:Events for Woodlands Conservancy
REFRESH-INTERVAL;VALUE=DURATION:PT1H
X-Robots-Tag:noindex
X-PUBLISHED-TTL:PT1H
BEGIN:VTIMEZONE
TZID:America/Chicago
BEGIN:DAYLIGHT
TZOFFSETFROM:-0600
TZOFFSETTO:-0500
TZNAME:CDT
DTSTART:20230312T080000
END:DAYLIGHT
BEGIN:STANDARD
TZOFFSETFROM:-0500
TZOFFSETTO:-0600
TZNAME:CST
DTSTART:20231105T070000
END:STANDARD
END:VTIMEZONE
BEGIN:VEVENT
DTSTART;TZID=America/Chicago:20231021T064500
DTEND;TZID=America/Chicago:20231021T064500
DTSTAMP:20260421T150227
CREATED:20231005T231141Z
LAST-MODIFIED:20231005T231142Z
UID:6432-1697870700-1697870700@www.woodlandsconservancy.org
SUMMARY:Bird Banding @ Delacroix Preserve
DESCRIPTION:Please RSVP to < feralbiologist at gmail dot com > to register.
URL:https://www.woodlandsconservancy.org/event/bird-banding-delacroix-preserve-8/
END:VEVENT
BEGIN:VEVENT
DTSTART;TZID=America/Chicago:20231022T064500
DTEND;TZID=America/Chicago:20231022T064500
DTSTAMP:20260421T150227
CREATED:20231005T231215Z
LAST-MODIFIED:20231005T231216Z
UID:6434-1697957100-1697957100@www.woodlandsconservancy.org
SUMMARY:Bird Banding @ Woodlands Preserve
DESCRIPTION:Please RSVP to < feralbiologist at gmail dot com > to register.
URL:https://www.woodlandsconservancy.org/event/bird-banding-woodlands-preserve-9/
END:VEVENT
BEGIN:VEVENT
DTSTART;TZID=America/Chicago:20231028T090000
DTEND;TZID=America/Chicago:20231028T120000
DTSTAMP:20260421T150227
CREATED:20231019T190549Z
LAST-MODIFIED:20231019T190551Z
UID:6438-1698483600-1698494400@www.woodlandsconservancy.org
SUMMARY:Volunteer Day @ Woodlands Preserve
DESCRIPTION:Celebrate the end of a long\, hot summer by getting outside! We will be clearing up and preparing some of our restoration/planting sites for this year’s tree-planting and we’d love to see you there!We will meet at 449 F. Edward Herbert Blvd. Belle Chasse\, LA \n\n\n\nPlease email volunteer@woodlandsconservancy.org to RSVP
URL:https://www.woodlandsconservancy.org/event/volunteer-day-woodlands-preserve-2/
END:VEVENT
END:VCALENDAR