BEGIN:VCALENDAR
VERSION:2.0
PRODID:-//Woodlands Conservancy - ECPv6.0.6.1//NONSGML v1.0//EN
CALSCALE:GREGORIAN
METHOD:PUBLISH
X-WR-CALNAME:Woodlands Conservancy
X-ORIGINAL-URL:https://www.woodlandsconservancy.org
X-WR-CALDESC:Events for Woodlands Conservancy
REFRESH-INTERVAL;VALUE=DURATION:PT1H
X-Robots-Tag:noindex
X-PUBLISHED-TTL:PT1H
BEGIN:VTIMEZONE
TZID:America/Chicago
BEGIN:DAYLIGHT
TZOFFSETFROM:-0600
TZOFFSETTO:-0500
TZNAME:CDT
DTSTART:20240310T080000
END:DAYLIGHT
BEGIN:STANDARD
TZOFFSETFROM:-0500
TZOFFSETTO:-0600
TZNAME:CST
DTSTART:20241103T070000
END:STANDARD
END:VTIMEZONE
BEGIN:VEVENT
DTSTART;TZID=America/Chicago:20240120T070000
DTEND;TZID=America/Chicago:20240120T070000
DTSTAMP:20260421T131710
CREATED:20240109T212024Z
LAST-MODIFIED:20240109T212026Z
UID:6541-1705734000-1705734000@www.woodlandsconservancy.org
SUMMARY:Bird Banding @ Delacroix Preserve
DESCRIPTION:Please email < feralbiologist @ gmail dot com > to RSVP.
URL:https://www.woodlandsconservancy.org/event/bird-banding-delacroix-preserve-12/
END:VEVENT
BEGIN:VEVENT
DTSTART;TZID=America/Chicago:20240120T090000
DTEND;TZID=America/Chicago:20240120T120000
DTSTAMP:20260421T131710
CREATED:20231121T211402Z
LAST-MODIFIED:20231121T211403Z
UID:6469-1705741200-1705752000@www.woodlandsconservancy.org
SUMMARY:Volunteer Tree-Planting @ Woodlands Preserve
DESCRIPTION:At this volunteer event\, we’ll be planting seedling and sapling trees in one of our restoration areas!We will meet at 449 F. Edward Herbert Blvd. Belle Chasse\, LA \n\n\n\nPlease email volunteer@woodlandsconservancy.org to RSVP
URL:https://www.woodlandsconservancy.org/event/volunteer-tree-planting-woodlands-preserve-4/
END:VEVENT
END:VCALENDAR