BEGIN:VCALENDAR
VERSION:2.0
PRODID:-//Woodlands Conservancy - ECPv6.0.6.1//NONSGML v1.0//EN
CALSCALE:GREGORIAN
METHOD:PUBLISH
X-WR-CALNAME:Woodlands Conservancy
X-ORIGINAL-URL:https://www.woodlandsconservancy.org
X-WR-CALDESC:Events for Woodlands Conservancy
REFRESH-INTERVAL;VALUE=DURATION:PT1H
X-Robots-Tag:noindex
X-PUBLISHED-TTL:PT1H
BEGIN:VTIMEZONE
TZID:America/Chicago
BEGIN:DAYLIGHT
TZOFFSETFROM:-0600
TZOFFSETTO:-0500
TZNAME:CDT
DTSTART:20230312T080000
END:DAYLIGHT
BEGIN:STANDARD
TZOFFSETFROM:-0500
TZOFFSETTO:-0600
TZNAME:CST
DTSTART:20231105T070000
END:STANDARD
END:VTIMEZONE
BEGIN:VEVENT
DTSTART;TZID=America/Chicago:20231125T140000
DTEND;TZID=America/Chicago:20231125T160000
DTSTAMP:20260424T095704
CREATED:20231107T214603Z
LAST-MODIFIED:20231107T214605Z
UID:6453-1700920800-1700928000@www.woodlandsconservancy.org
SUMMARY:Raptor Presentation & Owl Prowl
DESCRIPTION:Join us for an afternoon of Louisiana (and beyond) raptor education with Sally Farrell from Wind in My Feathers! Sally received her training at the Wild Bird Rehabilitation Center of the New Orleans Audubon Zoo and is a USFWS licensed raptor rehabilitator and educator with state and federal permits for New Orleans and the surrounding area. \n\n\n\nSally will give a presentation of live\, non-releasable raptors with accompanying lecture\, supplemented with audio and visual aids such as photography\, taped bird calls\, owl castings\, feather displays\, skulls and owl feet. A question and answer period follows the talk. \n\n\n\nAfter the presentation\, there will be a guided interpretive hike where we will use our eyes and ears to prowl for wild owls and other raptors! \n\n\n\nPlease arrive 15 minutes early and bring a chair for your own comfort. \n\n\n\nRegister for the event here.
URL:https://www.woodlandsconservancy.org/event/raptor-presentation-owl-prowl/
END:VEVENT
END:VCALENDAR