BEGIN:VCALENDAR
VERSION:2.0
PRODID:-//Woodlands Conservancy - ECPv6.0.6.1//NONSGML v1.0//EN
CALSCALE:GREGORIAN
METHOD:PUBLISH
X-ORIGINAL-URL:https://www.woodlandsconservancy.org
X-WR-CALDESC:Events for Woodlands Conservancy
REFRESH-INTERVAL;VALUE=DURATION:PT1H
X-Robots-Tag:noindex
X-PUBLISHED-TTL:PT1H
BEGIN:VTIMEZONE
TZID:America/Chicago
BEGIN:DAYLIGHT
TZOFFSETFROM:-0600
TZOFFSETTO:-0500
TZNAME:CDT
DTSTART:20230312T080000
END:DAYLIGHT
BEGIN:STANDARD
TZOFFSETFROM:-0500
TZOFFSETTO:-0600
TZNAME:CST
DTSTART:20231105T070000
END:STANDARD
END:VTIMEZONE
BEGIN:VEVENT
DTSTART;TZID=America/Chicago:20231118T060000
DTEND;TZID=America/Chicago:20231118T060000
DTSTAMP:20260423T102246
CREATED:20231102T195446Z
LAST-MODIFIED:20231116T215213Z
UID:6445-1700287200-1700287200@www.woodlandsconservancy.org
SUMMARY:*POSTPONED for 11/26* Bird Banding @ Delacroix Preserve
DESCRIPTION:Saturday\, November 18thDelacroix PreserveStart time: 6:00 AM \n\n\n\nPlease RSVP to < feralbiologist at gmail dot com > to register.
URL:https://www.woodlandsconservancy.org/event/bird-banding-delacroix-preserve-9/
END:VEVENT
END:VCALENDAR