BEGIN:VCALENDAR
VERSION:2.0
PRODID:-//Woodlands Conservancy - ECPv6.0.6.1//NONSGML v1.0//EN
CALSCALE:GREGORIAN
METHOD:PUBLISH
X-WR-CALNAME:Woodlands Conservancy
X-ORIGINAL-URL:https://www.woodlandsconservancy.org
X-WR-CALDESC:Events for Woodlands Conservancy
REFRESH-INTERVAL;VALUE=DURATION:PT1H
X-Robots-Tag:noindex
X-PUBLISHED-TTL:PT1H
BEGIN:VTIMEZONE
TZID:America/Chicago
BEGIN:DAYLIGHT
TZOFFSETFROM:-0600
TZOFFSETTO:-0500
TZNAME:CDT
DTSTART:20230312T080000
END:DAYLIGHT
BEGIN:STANDARD
TZOFFSETFROM:-0500
TZOFFSETTO:-0600
TZNAME:CST
DTSTART:20231105T070000
END:STANDARD
END:VTIMEZONE
BEGIN:VEVENT
DTSTART;TZID=America/Chicago:20230930T100000
DTEND;TZID=America/Chicago:20230930T130000
DTSTAMP:20260421T095257
CREATED:20230803T181438Z
LAST-MODIFIED:20230818T191153Z
UID:6363-1696068000-1696078800@www.woodlandsconservancy.org
SUMMARY:Open Woods @ Woodlands Preserve
DESCRIPTION:Laissez les bons temps rouler at Woodlands Preserve!  Visit Woodlands Preserve on Saturday\, September 30th from 10am-1pm for an afternoon of food\, fun and a firsthand look at the progress we’ve made.  Enjoy guided interpretive hikes\, a raffle and giveaways as well as free hot dogs and snowballs.  Guests will also have the opportunity to sign-up for the 2023 Hike-a-Thon scheduled for October 1 – October 21. Join us and start logging your miles one day early! 
URL:https://www.woodlandsconservancy.org/event/open-house-woodlands-preserve/
END:VEVENT
END:VCALENDAR